BEGIN:VCALENDAR
VERSION:2.0
PRODID:-//Blisworth Community Primary School - ECPv6.15.20//NONSGML v1.0//EN
CALSCALE:GREGORIAN
METHOD:PUBLISH
X-WR-CALNAME:Blisworth Community Primary School
X-ORIGINAL-URL:https://blisworth.northants.sch.uk
X-WR-CALDESC:Events for Blisworth Community Primary School
REFRESH-INTERVAL;VALUE=DURATION:PT1H
X-Robots-Tag:noindex
X-PUBLISHED-TTL:PT1H
BEGIN:VTIMEZONE
TZID:Europe/London
BEGIN:DAYLIGHT
TZOFFSETFROM:+0000
TZOFFSETTO:+0100
TZNAME:BST
DTSTART:20200329T010000
END:DAYLIGHT
BEGIN:STANDARD
TZOFFSETFROM:+0100
TZOFFSETTO:+0000
TZNAME:GMT
DTSTART:20201025T010000
END:STANDARD
BEGIN:DAYLIGHT
TZOFFSETFROM:+0000
TZOFFSETTO:+0100
TZNAME:BST
DTSTART:20210328T010000
END:DAYLIGHT
BEGIN:STANDARD
TZOFFSETFROM:+0100
TZOFFSETTO:+0000
TZNAME:GMT
DTSTART:20211031T010000
END:STANDARD
BEGIN:DAYLIGHT
TZOFFSETFROM:+0000
TZOFFSETTO:+0100
TZNAME:BST
DTSTART:20220327T010000
END:DAYLIGHT
BEGIN:STANDARD
TZOFFSETFROM:+0100
TZOFFSETTO:+0000
TZNAME:GMT
DTSTART:20221030T010000
END:STANDARD
BEGIN:DAYLIGHT
TZOFFSETFROM:+0000
TZOFFSETTO:+0100
TZNAME:BST
DTSTART:20230326T010000
END:DAYLIGHT
BEGIN:STANDARD
TZOFFSETFROM:+0100
TZOFFSETTO:+0000
TZNAME:GMT
DTSTART:20231029T010000
END:STANDARD
END:VTIMEZONE
BEGIN:VEVENT
DTSTART;VALUE=DATE:20211206
DTEND;VALUE=DATE:20211207
DTSTAMP:20260425T021207
CREATED:20211119T152453Z
LAST-MODIFIED:20211119T152453Z
UID:1153-1638748800-1638835199@blisworth.northants.sch.uk
SUMMARY:Year 5 Young Leaders Award
DESCRIPTION:The Year 5 children are going to E.W.S. in Roade to take part in the Young Leaders Award training.
URL:https://blisworth.northants.sch.uk/event/year-5-young-leaders-award/
END:VEVENT
BEGIN:VEVENT
DTSTART;VALUE=DATE:20211210
DTEND;VALUE=DATE:20211211
DTSTAMP:20260425T021207
CREATED:20211115T122533Z
LAST-MODIFIED:20211115T122533Z
UID:1090-1639094400-1639180799@blisworth.northants.sch.uk
SUMMARY:Christmas Jumper Day
DESCRIPTION:
URL:https://blisworth.northants.sch.uk/event/christmas-jumper-day/
END:VEVENT
BEGIN:VEVENT
DTSTART;TZID=Europe/London:20211217T153000
DTEND;TZID=Europe/London:20220105T153000
DTSTAMP:20260425T021207
CREATED:20211019T110116Z
LAST-MODIFIED:20211019T122432Z
UID:695-1639755000-1641396600@blisworth.northants.sch.uk
SUMMARY:Christmas Holiday
DESCRIPTION:
URL:https://blisworth.northants.sch.uk/event/school-closes-for-christmas/
END:VEVENT
END:VCALENDAR