BEGIN:VCALENDAR
VERSION:2.0
PRODID:-//Blisworth Community Primary School - ECPv6.15.20//NONSGML v1.0//EN
CALSCALE:GREGORIAN
METHOD:PUBLISH
X-ORIGINAL-URL:https://blisworth.northants.sch.uk
X-WR-CALDESC:Events for Blisworth Community Primary School
REFRESH-INTERVAL;VALUE=DURATION:PT1H
X-Robots-Tag:noindex
X-PUBLISHED-TTL:PT1H
BEGIN:VTIMEZONE
TZID:Europe/London
BEGIN:DAYLIGHT
TZOFFSETFROM:+0000
TZOFFSETTO:+0100
TZNAME:BST
DTSTART:20220327T010000
END:DAYLIGHT
BEGIN:STANDARD
TZOFFSETFROM:+0100
TZOFFSETTO:+0000
TZNAME:GMT
DTSTART:20221030T010000
END:STANDARD
BEGIN:DAYLIGHT
TZOFFSETFROM:+0000
TZOFFSETTO:+0100
TZNAME:BST
DTSTART:20230326T010000
END:DAYLIGHT
BEGIN:STANDARD
TZOFFSETFROM:+0100
TZOFFSETTO:+0000
TZNAME:GMT
DTSTART:20231029T010000
END:STANDARD
BEGIN:DAYLIGHT
TZOFFSETFROM:+0000
TZOFFSETTO:+0100
TZNAME:BST
DTSTART:20240331T010000
END:DAYLIGHT
BEGIN:STANDARD
TZOFFSETFROM:+0100
TZOFFSETTO:+0000
TZNAME:GMT
DTSTART:20241027T010000
END:STANDARD
END:VTIMEZONE
BEGIN:VEVENT
DTSTART;TZID=Europe/London:20230707T170000
DTEND;TZID=Europe/London:20230707T200000
DTSTAMP:20260421T201129
CREATED:20230524T093338Z
LAST-MODIFIED:20230524T093338Z
UID:3241-1688749200-1688760000@blisworth.northants.sch.uk
SUMMARY:Friday Fun Fest!
DESCRIPTION:
URL:https://blisworth.northants.sch.uk/event/friday-fun-fest/
END:VEVENT
BEGIN:VEVENT
DTSTART;TZID=Europe/London:20230711T144500
DTEND;TZID=Europe/London:20230711T151500
DTSTAMP:20260421T201129
CREATED:20230524T101644Z
LAST-MODIFIED:20230524T101644Z
UID:3276-1689086700-1689088500@blisworth.northants.sch.uk
SUMMARY:Open afternoon for Reception\, Year 1 and Year 2
DESCRIPTION:
URL:https://blisworth.northants.sch.uk/event/open-afternoon-for-reception-year-1-and-year-2/
END:VEVENT
BEGIN:VEVENT
DTSTART;TZID=Europe/London:20230712T144500
DTEND;TZID=Europe/London:20230712T151500
DTSTAMP:20260421T201129
CREATED:20230524T101814Z
LAST-MODIFIED:20230524T101814Z
UID:3278-1689173100-1689174900@blisworth.northants.sch.uk
SUMMARY:Open afternoon Years 3\, 4\, 5 and 6
DESCRIPTION:
URL:https://blisworth.northants.sch.uk/event/open-afternoon-years-3-4-5-and-6/
END:VEVENT
BEGIN:VEVENT
DTSTART;TZID=Europe/London:20230721T153000
DTEND;TZID=Europe/London:20230906T084500
DTSTAMP:20260421T201129
CREATED:20230103T094234Z
LAST-MODIFIED:20230103T094234Z
UID:2187-1689953400-1693989900@blisworth.northants.sch.uk
SUMMARY:End of Term
DESCRIPTION:
URL:https://blisworth.northants.sch.uk/event/end-of-term/
END:VEVENT
END:VCALENDAR